BEGIN:VCALENDAR
VERSION:2.0
PRODID:-//Data Integrity Services, Inc. - ECPv6.15.13//NONSGML v1.0//EN
CALSCALE:GREGORIAN
METHOD:PUBLISH
X-WR-CALNAME:Data Integrity Services, Inc.
X-ORIGINAL-URL:https://disrv.com
X-WR-CALDESC:Events for Data Integrity Services, Inc.
REFRESH-INTERVAL;VALUE=DURATION:PT1H
X-Robots-Tag:noindex
X-PUBLISHED-TTL:PT1H
BEGIN:VTIMEZONE
TZID:America/New_York
BEGIN:DAYLIGHT
TZOFFSETFROM:-0500
TZOFFSETTO:-0400
TZNAME:EDT
DTSTART:20270314T070000
END:DAYLIGHT
BEGIN:STANDARD
TZOFFSETFROM:-0400
TZOFFSETTO:-0500
TZNAME:EST
DTSTART:20271107T060000
END:STANDARD
BEGIN:DAYLIGHT
TZOFFSETFROM:-0500
TZOFFSETTO:-0400
TZNAME:EDT
DTSTART:20280312T070000
END:DAYLIGHT
BEGIN:STANDARD
TZOFFSETFROM:-0400
TZOFFSETTO:-0500
TZNAME:EST
DTSTART:20281105T060000
END:STANDARD
BEGIN:DAYLIGHT
TZOFFSETFROM:-0500
TZOFFSETTO:-0400
TZNAME:EDT
DTSTART:20290311T070000
END:DAYLIGHT
BEGIN:STANDARD
TZOFFSETFROM:-0400
TZOFFSETTO:-0500
TZNAME:EST
DTSTART:20291104T060000
END:STANDARD
END:VTIMEZONE
BEGIN:VEVENT
DTSTART;TZID=America/New_York:20280517T130000
DTEND;TZID=America/New_York:20280517T140000
DTSTAMP:20260421T152623
CREATED:20230228T155956Z
LAST-MODIFIED:20230804T201035Z
UID:10000529-1842181200-1842184800@disrv.com
SUMMARY:Smart Sensors: Data-Driven Insights Into Your Environment
DESCRIPTION:Introducing the SV20 Series Air Quality Sensors\n\nVerkada is excited to introduce our next generation of Environmental Sensor — the all-in-one SV20 sensor series\, a series of 3 sensors for indoor air quality monitoring\, vape detection and more.\nIn this product exclusive\, see how this addition to Verkada’s cloud-based security products helps industry leaders improve indoor air quality monitoring and more.\n\nWebinar is hosted Wednesday at 1 PM EST.\n\nsecurity cameras\, environmental sensors\, smart sensors\, security cameras for business\, verkada
URL:https://disrv.com/event/smart-sensors-data-driven-insights-into-your-environment-copy-copy-copy/2028-05-17/
END:VEVENT
BEGIN:VEVENT
DTSTART;TZID=America/New_York:20280524T130000
DTEND;TZID=America/New_York:20280524T140000
DTSTAMP:20260421T152623
CREATED:20230228T155956Z
LAST-MODIFIED:20230804T201035Z
UID:10000530-1842786000-1842789600@disrv.com
SUMMARY:Smart Sensors: Data-Driven Insights Into Your Environment
DESCRIPTION:Introducing the SV20 Series Air Quality Sensors\n\nVerkada is excited to introduce our next generation of Environmental Sensor — the all-in-one SV20 sensor series\, a series of 3 sensors for indoor air quality monitoring\, vape detection and more.\nIn this product exclusive\, see how this addition to Verkada’s cloud-based security products helps industry leaders improve indoor air quality monitoring and more.\n\nWebinar is hosted Wednesday at 1 PM EST.\n\nsecurity cameras\, environmental sensors\, smart sensors\, security cameras for business\, verkada
URL:https://disrv.com/event/smart-sensors-data-driven-insights-into-your-environment-copy-copy-copy/2028-05-24/
END:VEVENT
BEGIN:VEVENT
DTSTART;TZID=America/New_York:20280531T130000
DTEND;TZID=America/New_York:20280531T140000
DTSTAMP:20260421T152623
CREATED:20230228T155956Z
LAST-MODIFIED:20230804T201035Z
UID:10000531-1843390800-1843394400@disrv.com
SUMMARY:Smart Sensors: Data-Driven Insights Into Your Environment
DESCRIPTION:Introducing the SV20 Series Air Quality Sensors\n\nVerkada is excited to introduce our next generation of Environmental Sensor — the all-in-one SV20 sensor series\, a series of 3 sensors for indoor air quality monitoring\, vape detection and more.\nIn this product exclusive\, see how this addition to Verkada’s cloud-based security products helps industry leaders improve indoor air quality monitoring and more.\n\nWebinar is hosted Wednesday at 1 PM EST.\n\nsecurity cameras\, environmental sensors\, smart sensors\, security cameras for business\, verkada
URL:https://disrv.com/event/smart-sensors-data-driven-insights-into-your-environment-copy-copy-copy/2028-05-31/
END:VEVENT
BEGIN:VEVENT
DTSTART;TZID=America/New_York:20280607T130000
DTEND;TZID=America/New_York:20280607T140000
DTSTAMP:20260421T152623
CREATED:20230228T155956Z
LAST-MODIFIED:20230804T201035Z
UID:10000532-1843995600-1843999200@disrv.com
SUMMARY:Smart Sensors: Data-Driven Insights Into Your Environment
DESCRIPTION:Introducing the SV20 Series Air Quality Sensors\n\nVerkada is excited to introduce our next generation of Environmental Sensor — the all-in-one SV20 sensor series\, a series of 3 sensors for indoor air quality monitoring\, vape detection and more.\nIn this product exclusive\, see how this addition to Verkada’s cloud-based security products helps industry leaders improve indoor air quality monitoring and more.\n\nWebinar is hosted Wednesday at 1 PM EST.\n\nsecurity cameras\, environmental sensors\, smart sensors\, security cameras for business\, verkada
URL:https://disrv.com/event/smart-sensors-data-driven-insights-into-your-environment-copy-copy-copy/2028-06-07/
END:VEVENT
BEGIN:VEVENT
DTSTART;TZID=America/New_York:20280614T130000
DTEND;TZID=America/New_York:20280614T140000
DTSTAMP:20260421T152623
CREATED:20230228T155956Z
LAST-MODIFIED:20230804T201035Z
UID:10000533-1844600400-1844604000@disrv.com
SUMMARY:Smart Sensors: Data-Driven Insights Into Your Environment
DESCRIPTION:Introducing the SV20 Series Air Quality Sensors\n\nVerkada is excited to introduce our next generation of Environmental Sensor — the all-in-one SV20 sensor series\, a series of 3 sensors for indoor air quality monitoring\, vape detection and more.\nIn this product exclusive\, see how this addition to Verkada’s cloud-based security products helps industry leaders improve indoor air quality monitoring and more.\n\nWebinar is hosted Wednesday at 1 PM EST.\n\nsecurity cameras\, environmental sensors\, smart sensors\, security cameras for business\, verkada
URL:https://disrv.com/event/smart-sensors-data-driven-insights-into-your-environment-copy-copy-copy/2028-06-14/
END:VEVENT
BEGIN:VEVENT
DTSTART;TZID=America/New_York:20280621T130000
DTEND;TZID=America/New_York:20280621T140000
DTSTAMP:20260421T152623
CREATED:20230228T155956Z
LAST-MODIFIED:20230804T201035Z
UID:10000534-1845205200-1845208800@disrv.com
SUMMARY:Smart Sensors: Data-Driven Insights Into Your Environment
DESCRIPTION:Introducing the SV20 Series Air Quality Sensors\n\nVerkada is excited to introduce our next generation of Environmental Sensor — the all-in-one SV20 sensor series\, a series of 3 sensors for indoor air quality monitoring\, vape detection and more.\nIn this product exclusive\, see how this addition to Verkada’s cloud-based security products helps industry leaders improve indoor air quality monitoring and more.\n\nWebinar is hosted Wednesday at 1 PM EST.\n\nsecurity cameras\, environmental sensors\, smart sensors\, security cameras for business\, verkada
URL:https://disrv.com/event/smart-sensors-data-driven-insights-into-your-environment-copy-copy-copy/2028-06-21/
END:VEVENT
BEGIN:VEVENT
DTSTART;TZID=America/New_York:20280628T130000
DTEND;TZID=America/New_York:20280628T140000
DTSTAMP:20260421T152623
CREATED:20230228T155956Z
LAST-MODIFIED:20230804T201035Z
UID:10000535-1845810000-1845813600@disrv.com
SUMMARY:Smart Sensors: Data-Driven Insights Into Your Environment
DESCRIPTION:Introducing the SV20 Series Air Quality Sensors\n\nVerkada is excited to introduce our next generation of Environmental Sensor — the all-in-one SV20 sensor series\, a series of 3 sensors for indoor air quality monitoring\, vape detection and more.\nIn this product exclusive\, see how this addition to Verkada’s cloud-based security products helps industry leaders improve indoor air quality monitoring and more.\n\nWebinar is hosted Wednesday at 1 PM EST.\n\nsecurity cameras\, environmental sensors\, smart sensors\, security cameras for business\, verkada
URL:https://disrv.com/event/smart-sensors-data-driven-insights-into-your-environment-copy-copy-copy/2028-06-28/
END:VEVENT
BEGIN:VEVENT
DTSTART;TZID=America/New_York:20280705T130000
DTEND;TZID=America/New_York:20280705T140000
DTSTAMP:20260421T152623
CREATED:20230228T155956Z
LAST-MODIFIED:20230804T201035Z
UID:10000536-1846414800-1846418400@disrv.com
SUMMARY:Smart Sensors: Data-Driven Insights Into Your Environment
DESCRIPTION:Introducing the SV20 Series Air Quality Sensors\n\nVerkada is excited to introduce our next generation of Environmental Sensor — the all-in-one SV20 sensor series\, a series of 3 sensors for indoor air quality monitoring\, vape detection and more.\nIn this product exclusive\, see how this addition to Verkada’s cloud-based security products helps industry leaders improve indoor air quality monitoring and more.\n\nWebinar is hosted Wednesday at 1 PM EST.\n\nsecurity cameras\, environmental sensors\, smart sensors\, security cameras for business\, verkada
URL:https://disrv.com/event/smart-sensors-data-driven-insights-into-your-environment-copy-copy-copy/2028-07-05/
END:VEVENT
BEGIN:VEVENT
DTSTART;TZID=America/New_York:20280712T130000
DTEND;TZID=America/New_York:20280712T140000
DTSTAMP:20260421T152623
CREATED:20230228T155956Z
LAST-MODIFIED:20230804T201035Z
UID:10000537-1847019600-1847023200@disrv.com
SUMMARY:Smart Sensors: Data-Driven Insights Into Your Environment
DESCRIPTION:Introducing the SV20 Series Air Quality Sensors\n\nVerkada is excited to introduce our next generation of Environmental Sensor — the all-in-one SV20 sensor series\, a series of 3 sensors for indoor air quality monitoring\, vape detection and more.\nIn this product exclusive\, see how this addition to Verkada’s cloud-based security products helps industry leaders improve indoor air quality monitoring and more.\n\nWebinar is hosted Wednesday at 1 PM EST.\n\nsecurity cameras\, environmental sensors\, smart sensors\, security cameras for business\, verkada
URL:https://disrv.com/event/smart-sensors-data-driven-insights-into-your-environment-copy-copy-copy/2028-07-12/
END:VEVENT
BEGIN:VEVENT
DTSTART;TZID=America/New_York:20280719T130000
DTEND;TZID=America/New_York:20280719T140000
DTSTAMP:20260421T152623
CREATED:20230228T155956Z
LAST-MODIFIED:20230804T201035Z
UID:10000538-1847624400-1847628000@disrv.com
SUMMARY:Smart Sensors: Data-Driven Insights Into Your Environment
DESCRIPTION:Introducing the SV20 Series Air Quality Sensors\n\nVerkada is excited to introduce our next generation of Environmental Sensor — the all-in-one SV20 sensor series\, a series of 3 sensors for indoor air quality monitoring\, vape detection and more.\nIn this product exclusive\, see how this addition to Verkada’s cloud-based security products helps industry leaders improve indoor air quality monitoring and more.\n\nWebinar is hosted Wednesday at 1 PM EST.\n\nsecurity cameras\, environmental sensors\, smart sensors\, security cameras for business\, verkada
URL:https://disrv.com/event/smart-sensors-data-driven-insights-into-your-environment-copy-copy-copy/2028-07-19/
END:VEVENT
BEGIN:VEVENT
DTSTART;TZID=America/New_York:20280726T130000
DTEND;TZID=America/New_York:20280726T140000
DTSTAMP:20260421T152623
CREATED:20230228T155956Z
LAST-MODIFIED:20230804T201035Z
UID:10000539-1848229200-1848232800@disrv.com
SUMMARY:Smart Sensors: Data-Driven Insights Into Your Environment
DESCRIPTION:Introducing the SV20 Series Air Quality Sensors\n\nVerkada is excited to introduce our next generation of Environmental Sensor — the all-in-one SV20 sensor series\, a series of 3 sensors for indoor air quality monitoring\, vape detection and more.\nIn this product exclusive\, see how this addition to Verkada’s cloud-based security products helps industry leaders improve indoor air quality monitoring and more.\n\nWebinar is hosted Wednesday at 1 PM EST.\n\nsecurity cameras\, environmental sensors\, smart sensors\, security cameras for business\, verkada
URL:https://disrv.com/event/smart-sensors-data-driven-insights-into-your-environment-copy-copy-copy/2028-07-26/
END:VEVENT
BEGIN:VEVENT
DTSTART;TZID=America/New_York:20280802T130000
DTEND;TZID=America/New_York:20280802T140000
DTSTAMP:20260421T152623
CREATED:20230228T155956Z
LAST-MODIFIED:20230804T201035Z
UID:10000540-1848834000-1848837600@disrv.com
SUMMARY:Smart Sensors: Data-Driven Insights Into Your Environment
DESCRIPTION:Introducing the SV20 Series Air Quality Sensors\n\nVerkada is excited to introduce our next generation of Environmental Sensor — the all-in-one SV20 sensor series\, a series of 3 sensors for indoor air quality monitoring\, vape detection and more.\nIn this product exclusive\, see how this addition to Verkada’s cloud-based security products helps industry leaders improve indoor air quality monitoring and more.\n\nWebinar is hosted Wednesday at 1 PM EST.\n\nsecurity cameras\, environmental sensors\, smart sensors\, security cameras for business\, verkada
URL:https://disrv.com/event/smart-sensors-data-driven-insights-into-your-environment-copy-copy-copy/2028-08-02/
END:VEVENT
END:VCALENDAR