BEGIN:VCALENDAR
VERSION:2.0
PRODID:-//Data Integrity Services, Inc. - ECPv6.15.13//NONSGML v1.0//EN
CALSCALE:GREGORIAN
METHOD:PUBLISH
X-WR-CALNAME:Data Integrity Services, Inc.
X-ORIGINAL-URL:https://disrv.com
X-WR-CALDESC:Events for Data Integrity Services, Inc.
REFRESH-INTERVAL;VALUE=DURATION:PT1H
X-Robots-Tag:noindex
X-PUBLISHED-TTL:PT1H
BEGIN:VTIMEZONE
TZID:America/New_York
BEGIN:DAYLIGHT
TZOFFSETFROM:-0500
TZOFFSETTO:-0400
TZNAME:EDT
DTSTART:20270314T070000
END:DAYLIGHT
BEGIN:STANDARD
TZOFFSETFROM:-0400
TZOFFSETTO:-0500
TZNAME:EST
DTSTART:20271107T060000
END:STANDARD
BEGIN:DAYLIGHT
TZOFFSETFROM:-0500
TZOFFSETTO:-0400
TZNAME:EDT
DTSTART:20280312T070000
END:DAYLIGHT
BEGIN:STANDARD
TZOFFSETFROM:-0400
TZOFFSETTO:-0500
TZNAME:EST
DTSTART:20281105T060000
END:STANDARD
BEGIN:DAYLIGHT
TZOFFSETFROM:-0500
TZOFFSETTO:-0400
TZNAME:EDT
DTSTART:20290311T070000
END:DAYLIGHT
BEGIN:STANDARD
TZOFFSETFROM:-0400
TZOFFSETTO:-0500
TZNAME:EST
DTSTART:20291104T060000
END:STANDARD
END:VTIMEZONE
BEGIN:VEVENT
DTSTART;TZID=America/New_York:20280615T130000
DTEND;TZID=America/New_York:20280615T140000
DTSTAMP:20260422T185037
CREATED:20230804T201628Z
LAST-MODIFIED:20230804T201628Z
UID:10000794-1844686800-1844690400@disrv.com
SUMMARY:How Cloudflare Scaled Global Security Operations by Integrating Access Control & Video Security
DESCRIPTION:How Cloudflare Scaled Global Security Operations by Integrating Access Control & Video Security\nIn our on demand webinar\, Delia Midamba\, Head of Physical Security at Cloudflare\, demonstrates how she scaled safety and operations across 10 global offices and 3\,600 employees with a 3-person team. \nWith Verkada’s integrated security system\, Midamba was able to: \n\nReduce time spent on investigations with features such as motion grids\, person detection\, detailed reporting\, and audit logs\nStreamline credential management by utilizing Okta integrations and mobile access control\nImprove overall building security with advanced analytics\, door-based motion alerts\, and tailgate detection\n\nvideo security\, security cameras\, cloud security\, cloud cameras\, video security systems
URL:https://disrv.com/event/how-cloudflare-scaled-global-security-operations-by-integrating-access-control-video-security/2028-06-15/
LOCATION:Online Webinar
CATEGORIES:Verkada,Webinar
ATTACH;FMTTYPE=image/png:https://disrv.com/wp-content/uploads/2020/03/verkada-hybrid-cloud-video-security@2x.png
END:VEVENT
BEGIN:VEVENT
DTSTART;TZID=America/New_York:20280616T130000
DTEND;TZID=America/New_York:20280616T140000
DTSTAMP:20260422T185037
CREATED:20230804T201816Z
LAST-MODIFIED:20230804T201816Z
UID:10001316-1844773200-1844776800@disrv.com
SUMMARY:Introduction to Alarms and 24/7 Professional Monitoring
DESCRIPTION:Introduction to Alarms and 24/7 Professional Monitoring\nIn this webinar\, we will demonstrate how Verkada Alarms can keep your people and assets safe while providing you with peace of mind using 24/7 professional monitoring. \nAlongside a suite of intrusion detection devices\, the Alarms product leverages analytics and events delivered by your existing Verkada security cameras\, door-based access control\, and environmental sensors to help easily identify\, assess and respond to events in real-time. \nvideo security\, security cameras\, cloud security\, cloud cameras\, video security systems
URL:https://disrv.com/event/introduction-to-alarms-and-24-7-professional-monitoring/2028-06-16/
LOCATION:Online Webinar
CATEGORIES:Verkada,Webinar
ATTACH;FMTTYPE=image/png:https://disrv.com/wp-content/uploads/2020/03/verkada-hybrid-cloud-video-security@2x.png
END:VEVENT
BEGIN:VEVENT
DTSTART;TZID=America/New_York:20280620T130000
DTEND;TZID=America/New_York:20280620T140000
DTSTAMP:20260422T185038
CREATED:20230717T123401Z
LAST-MODIFIED:20230717T130355Z
UID:10000262-1845118800-1845122400@disrv.com
SUMMARY:How to Simplify Video Security at Scale
DESCRIPTION:How to Simplify Video Security at Scale\nOrganizations are rapidly moving to the cloud to enable remote access\, support greater scale\, and improve usability of video security systems. \nIn this webinar\, we’ll show how to deploy smart\, cloud-based video security so simple and scalable that it works for everyone at your organization. \nCan’t make it? No sweat. Everyone who registers will receive access to the recorded webinar. \n \nvideo security\, security cameras\, cloud security\, cloud cameras\, video security systems
URL:https://disrv.com/event/3235/2028-06-20/
LOCATION:Online Webinar
CATEGORIES:Verkada,Webinar
ATTACH;FMTTYPE=image/png:https://disrv.com/wp-content/uploads/2020/03/verkada-hybrid-cloud-video-security@2x.png
END:VEVENT
BEGIN:VEVENT
DTSTART;TZID=America/New_York:20280622T130000
DTEND;TZID=America/New_York:20280622T140000
DTSTAMP:20260422T185038
CREATED:20230804T201628Z
LAST-MODIFIED:20230804T201628Z
UID:10000795-1845291600-1845295200@disrv.com
SUMMARY:How Cloudflare Scaled Global Security Operations by Integrating Access Control & Video Security
DESCRIPTION:How Cloudflare Scaled Global Security Operations by Integrating Access Control & Video Security\nIn our on demand webinar\, Delia Midamba\, Head of Physical Security at Cloudflare\, demonstrates how she scaled safety and operations across 10 global offices and 3\,600 employees with a 3-person team. \nWith Verkada’s integrated security system\, Midamba was able to: \n\nReduce time spent on investigations with features such as motion grids\, person detection\, detailed reporting\, and audit logs\nStreamline credential management by utilizing Okta integrations and mobile access control\nImprove overall building security with advanced analytics\, door-based motion alerts\, and tailgate detection\n\nvideo security\, security cameras\, cloud security\, cloud cameras\, video security systems
URL:https://disrv.com/event/how-cloudflare-scaled-global-security-operations-by-integrating-access-control-video-security/2028-06-22/
LOCATION:Online Webinar
CATEGORIES:Verkada,Webinar
ATTACH;FMTTYPE=image/png:https://disrv.com/wp-content/uploads/2020/03/verkada-hybrid-cloud-video-security@2x.png
END:VEVENT
BEGIN:VEVENT
DTSTART;TZID=America/New_York:20280623T130000
DTEND;TZID=America/New_York:20280623T140000
DTSTAMP:20260422T185038
CREATED:20230804T201816Z
LAST-MODIFIED:20230804T201816Z
UID:10001317-1845378000-1845381600@disrv.com
SUMMARY:Introduction to Alarms and 24/7 Professional Monitoring
DESCRIPTION:Introduction to Alarms and 24/7 Professional Monitoring\nIn this webinar\, we will demonstrate how Verkada Alarms can keep your people and assets safe while providing you with peace of mind using 24/7 professional monitoring. \nAlongside a suite of intrusion detection devices\, the Alarms product leverages analytics and events delivered by your existing Verkada security cameras\, door-based access control\, and environmental sensors to help easily identify\, assess and respond to events in real-time. \nvideo security\, security cameras\, cloud security\, cloud cameras\, video security systems
URL:https://disrv.com/event/introduction-to-alarms-and-24-7-professional-monitoring/2028-06-23/
LOCATION:Online Webinar
CATEGORIES:Verkada,Webinar
ATTACH;FMTTYPE=image/png:https://disrv.com/wp-content/uploads/2020/03/verkada-hybrid-cloud-video-security@2x.png
END:VEVENT
BEGIN:VEVENT
DTSTART;TZID=America/New_York:20280627T130000
DTEND;TZID=America/New_York:20280627T140000
DTSTAMP:20260422T185038
CREATED:20230717T123401Z
LAST-MODIFIED:20230717T130355Z
UID:10000263-1845723600-1845727200@disrv.com
SUMMARY:How to Simplify Video Security at Scale
DESCRIPTION:How to Simplify Video Security at Scale\nOrganizations are rapidly moving to the cloud to enable remote access\, support greater scale\, and improve usability of video security systems. \nIn this webinar\, we’ll show how to deploy smart\, cloud-based video security so simple and scalable that it works for everyone at your organization. \nCan’t make it? No sweat. Everyone who registers will receive access to the recorded webinar. \n \nvideo security\, security cameras\, cloud security\, cloud cameras\, video security systems
URL:https://disrv.com/event/3235/2028-06-27/
LOCATION:Online Webinar
CATEGORIES:Verkada,Webinar
ATTACH;FMTTYPE=image/png:https://disrv.com/wp-content/uploads/2020/03/verkada-hybrid-cloud-video-security@2x.png
END:VEVENT
BEGIN:VEVENT
DTSTART;TZID=America/New_York:20280629T130000
DTEND;TZID=America/New_York:20280629T140000
DTSTAMP:20260422T185038
CREATED:20230804T201628Z
LAST-MODIFIED:20230804T201628Z
UID:10000796-1845896400-1845900000@disrv.com
SUMMARY:How Cloudflare Scaled Global Security Operations by Integrating Access Control & Video Security
DESCRIPTION:How Cloudflare Scaled Global Security Operations by Integrating Access Control & Video Security\nIn our on demand webinar\, Delia Midamba\, Head of Physical Security at Cloudflare\, demonstrates how she scaled safety and operations across 10 global offices and 3\,600 employees with a 3-person team. \nWith Verkada’s integrated security system\, Midamba was able to: \n\nReduce time spent on investigations with features such as motion grids\, person detection\, detailed reporting\, and audit logs\nStreamline credential management by utilizing Okta integrations and mobile access control\nImprove overall building security with advanced analytics\, door-based motion alerts\, and tailgate detection\n\nvideo security\, security cameras\, cloud security\, cloud cameras\, video security systems
URL:https://disrv.com/event/how-cloudflare-scaled-global-security-operations-by-integrating-access-control-video-security/2028-06-29/
LOCATION:Online Webinar
CATEGORIES:Verkada,Webinar
ATTACH;FMTTYPE=image/png:https://disrv.com/wp-content/uploads/2020/03/verkada-hybrid-cloud-video-security@2x.png
END:VEVENT
BEGIN:VEVENT
DTSTART;TZID=America/New_York:20280630T130000
DTEND;TZID=America/New_York:20280630T140000
DTSTAMP:20260422T185038
CREATED:20230804T201816Z
LAST-MODIFIED:20230804T201816Z
UID:10001318-1845982800-1845986400@disrv.com
SUMMARY:Introduction to Alarms and 24/7 Professional Monitoring
DESCRIPTION:Introduction to Alarms and 24/7 Professional Monitoring\nIn this webinar\, we will demonstrate how Verkada Alarms can keep your people and assets safe while providing you with peace of mind using 24/7 professional monitoring. \nAlongside a suite of intrusion detection devices\, the Alarms product leverages analytics and events delivered by your existing Verkada security cameras\, door-based access control\, and environmental sensors to help easily identify\, assess and respond to events in real-time. \nvideo security\, security cameras\, cloud security\, cloud cameras\, video security systems
URL:https://disrv.com/event/introduction-to-alarms-and-24-7-professional-monitoring/2028-06-30/
LOCATION:Online Webinar
CATEGORIES:Verkada,Webinar
ATTACH;FMTTYPE=image/png:https://disrv.com/wp-content/uploads/2020/03/verkada-hybrid-cloud-video-security@2x.png
END:VEVENT
BEGIN:VEVENT
DTSTART;TZID=America/New_York:20280704T130000
DTEND;TZID=America/New_York:20280704T140000
DTSTAMP:20260422T185038
CREATED:20230717T123401Z
LAST-MODIFIED:20230717T130355Z
UID:10000264-1846328400-1846332000@disrv.com
SUMMARY:How to Simplify Video Security at Scale
DESCRIPTION:How to Simplify Video Security at Scale\nOrganizations are rapidly moving to the cloud to enable remote access\, support greater scale\, and improve usability of video security systems. \nIn this webinar\, we’ll show how to deploy smart\, cloud-based video security so simple and scalable that it works for everyone at your organization. \nCan’t make it? No sweat. Everyone who registers will receive access to the recorded webinar. \n \nvideo security\, security cameras\, cloud security\, cloud cameras\, video security systems
URL:https://disrv.com/event/3235/2028-07-04/
LOCATION:Online Webinar
CATEGORIES:Verkada,Webinar
ATTACH;FMTTYPE=image/png:https://disrv.com/wp-content/uploads/2020/03/verkada-hybrid-cloud-video-security@2x.png
END:VEVENT
BEGIN:VEVENT
DTSTART;TZID=America/New_York:20280706T130000
DTEND;TZID=America/New_York:20280706T140000
DTSTAMP:20260422T185038
CREATED:20230804T201628Z
LAST-MODIFIED:20230804T201628Z
UID:10000797-1846501200-1846504800@disrv.com
SUMMARY:How Cloudflare Scaled Global Security Operations by Integrating Access Control & Video Security
DESCRIPTION:How Cloudflare Scaled Global Security Operations by Integrating Access Control & Video Security\nIn our on demand webinar\, Delia Midamba\, Head of Physical Security at Cloudflare\, demonstrates how she scaled safety and operations across 10 global offices and 3\,600 employees with a 3-person team. \nWith Verkada’s integrated security system\, Midamba was able to: \n\nReduce time spent on investigations with features such as motion grids\, person detection\, detailed reporting\, and audit logs\nStreamline credential management by utilizing Okta integrations and mobile access control\nImprove overall building security with advanced analytics\, door-based motion alerts\, and tailgate detection\n\nvideo security\, security cameras\, cloud security\, cloud cameras\, video security systems
URL:https://disrv.com/event/how-cloudflare-scaled-global-security-operations-by-integrating-access-control-video-security/2028-07-06/
LOCATION:Online Webinar
CATEGORIES:Verkada,Webinar
ATTACH;FMTTYPE=image/png:https://disrv.com/wp-content/uploads/2020/03/verkada-hybrid-cloud-video-security@2x.png
END:VEVENT
BEGIN:VEVENT
DTSTART;TZID=America/New_York:20280707T130000
DTEND;TZID=America/New_York:20280707T140000
DTSTAMP:20260422T185038
CREATED:20230804T201816Z
LAST-MODIFIED:20230804T201816Z
UID:10001319-1846587600-1846591200@disrv.com
SUMMARY:Introduction to Alarms and 24/7 Professional Monitoring
DESCRIPTION:Introduction to Alarms and 24/7 Professional Monitoring\nIn this webinar\, we will demonstrate how Verkada Alarms can keep your people and assets safe while providing you with peace of mind using 24/7 professional monitoring. \nAlongside a suite of intrusion detection devices\, the Alarms product leverages analytics and events delivered by your existing Verkada security cameras\, door-based access control\, and environmental sensors to help easily identify\, assess and respond to events in real-time. \nvideo security\, security cameras\, cloud security\, cloud cameras\, video security systems
URL:https://disrv.com/event/introduction-to-alarms-and-24-7-professional-monitoring/2028-07-07/
LOCATION:Online Webinar
CATEGORIES:Verkada,Webinar
ATTACH;FMTTYPE=image/png:https://disrv.com/wp-content/uploads/2020/03/verkada-hybrid-cloud-video-security@2x.png
END:VEVENT
BEGIN:VEVENT
DTSTART;TZID=America/New_York:20280711T130000
DTEND;TZID=America/New_York:20280711T140000
DTSTAMP:20260422T185038
CREATED:20230717T123401Z
LAST-MODIFIED:20230717T130355Z
UID:10000265-1846933200-1846936800@disrv.com
SUMMARY:How to Simplify Video Security at Scale
DESCRIPTION:How to Simplify Video Security at Scale\nOrganizations are rapidly moving to the cloud to enable remote access\, support greater scale\, and improve usability of video security systems. \nIn this webinar\, we’ll show how to deploy smart\, cloud-based video security so simple and scalable that it works for everyone at your organization. \nCan’t make it? No sweat. Everyone who registers will receive access to the recorded webinar. \n \nvideo security\, security cameras\, cloud security\, cloud cameras\, video security systems
URL:https://disrv.com/event/3235/2028-07-11/
LOCATION:Online Webinar
CATEGORIES:Verkada,Webinar
ATTACH;FMTTYPE=image/png:https://disrv.com/wp-content/uploads/2020/03/verkada-hybrid-cloud-video-security@2x.png
END:VEVENT
BEGIN:VEVENT
DTSTART;TZID=America/New_York:20280713T130000
DTEND;TZID=America/New_York:20280713T140000
DTSTAMP:20260422T185038
CREATED:20230804T201628Z
LAST-MODIFIED:20230804T201628Z
UID:10000798-1847106000-1847109600@disrv.com
SUMMARY:How Cloudflare Scaled Global Security Operations by Integrating Access Control & Video Security
DESCRIPTION:How Cloudflare Scaled Global Security Operations by Integrating Access Control & Video Security\nIn our on demand webinar\, Delia Midamba\, Head of Physical Security at Cloudflare\, demonstrates how she scaled safety and operations across 10 global offices and 3\,600 employees with a 3-person team. \nWith Verkada’s integrated security system\, Midamba was able to: \n\nReduce time spent on investigations with features such as motion grids\, person detection\, detailed reporting\, and audit logs\nStreamline credential management by utilizing Okta integrations and mobile access control\nImprove overall building security with advanced analytics\, door-based motion alerts\, and tailgate detection\n\nvideo security\, security cameras\, cloud security\, cloud cameras\, video security systems
URL:https://disrv.com/event/how-cloudflare-scaled-global-security-operations-by-integrating-access-control-video-security/2028-07-13/
LOCATION:Online Webinar
CATEGORIES:Verkada,Webinar
ATTACH;FMTTYPE=image/png:https://disrv.com/wp-content/uploads/2020/03/verkada-hybrid-cloud-video-security@2x.png
END:VEVENT
BEGIN:VEVENT
DTSTART;TZID=America/New_York:20280714T130000
DTEND;TZID=America/New_York:20280714T140000
DTSTAMP:20260422T185038
CREATED:20230804T201816Z
LAST-MODIFIED:20230804T201816Z
UID:10001320-1847192400-1847196000@disrv.com
SUMMARY:Introduction to Alarms and 24/7 Professional Monitoring
DESCRIPTION:Introduction to Alarms and 24/7 Professional Monitoring\nIn this webinar\, we will demonstrate how Verkada Alarms can keep your people and assets safe while providing you with peace of mind using 24/7 professional monitoring. \nAlongside a suite of intrusion detection devices\, the Alarms product leverages analytics and events delivered by your existing Verkada security cameras\, door-based access control\, and environmental sensors to help easily identify\, assess and respond to events in real-time. \nvideo security\, security cameras\, cloud security\, cloud cameras\, video security systems
URL:https://disrv.com/event/introduction-to-alarms-and-24-7-professional-monitoring/2028-07-14/
LOCATION:Online Webinar
CATEGORIES:Verkada,Webinar
ATTACH;FMTTYPE=image/png:https://disrv.com/wp-content/uploads/2020/03/verkada-hybrid-cloud-video-security@2x.png
END:VEVENT
BEGIN:VEVENT
DTSTART;TZID=America/New_York:20280720T130000
DTEND;TZID=America/New_York:20280720T140000
DTSTAMP:20260422T185038
CREATED:20230804T201628Z
LAST-MODIFIED:20230804T201628Z
UID:10000799-1847710800-1847714400@disrv.com
SUMMARY:How Cloudflare Scaled Global Security Operations by Integrating Access Control & Video Security
DESCRIPTION:How Cloudflare Scaled Global Security Operations by Integrating Access Control & Video Security\nIn our on demand webinar\, Delia Midamba\, Head of Physical Security at Cloudflare\, demonstrates how she scaled safety and operations across 10 global offices and 3\,600 employees with a 3-person team. \nWith Verkada’s integrated security system\, Midamba was able to: \n\nReduce time spent on investigations with features such as motion grids\, person detection\, detailed reporting\, and audit logs\nStreamline credential management by utilizing Okta integrations and mobile access control\nImprove overall building security with advanced analytics\, door-based motion alerts\, and tailgate detection\n\nvideo security\, security cameras\, cloud security\, cloud cameras\, video security systems
URL:https://disrv.com/event/how-cloudflare-scaled-global-security-operations-by-integrating-access-control-video-security/2028-07-20/
LOCATION:Online Webinar
CATEGORIES:Verkada,Webinar
ATTACH;FMTTYPE=image/png:https://disrv.com/wp-content/uploads/2020/03/verkada-hybrid-cloud-video-security@2x.png
END:VEVENT
BEGIN:VEVENT
DTSTART;TZID=America/New_York:20280721T130000
DTEND;TZID=America/New_York:20280721T140000
DTSTAMP:20260422T185038
CREATED:20230804T201816Z
LAST-MODIFIED:20230804T201816Z
UID:10001321-1847797200-1847800800@disrv.com
SUMMARY:Introduction to Alarms and 24/7 Professional Monitoring
DESCRIPTION:Introduction to Alarms and 24/7 Professional Monitoring\nIn this webinar\, we will demonstrate how Verkada Alarms can keep your people and assets safe while providing you with peace of mind using 24/7 professional monitoring. \nAlongside a suite of intrusion detection devices\, the Alarms product leverages analytics and events delivered by your existing Verkada security cameras\, door-based access control\, and environmental sensors to help easily identify\, assess and respond to events in real-time. \nvideo security\, security cameras\, cloud security\, cloud cameras\, video security systems
URL:https://disrv.com/event/introduction-to-alarms-and-24-7-professional-monitoring/2028-07-21/
LOCATION:Online Webinar
CATEGORIES:Verkada,Webinar
ATTACH;FMTTYPE=image/png:https://disrv.com/wp-content/uploads/2020/03/verkada-hybrid-cloud-video-security@2x.png
END:VEVENT
BEGIN:VEVENT
DTSTART;TZID=America/New_York:20280727T130000
DTEND;TZID=America/New_York:20280727T140000
DTSTAMP:20260422T185038
CREATED:20230804T201628Z
LAST-MODIFIED:20230804T201628Z
UID:10000800-1848315600-1848319200@disrv.com
SUMMARY:How Cloudflare Scaled Global Security Operations by Integrating Access Control & Video Security
DESCRIPTION:How Cloudflare Scaled Global Security Operations by Integrating Access Control & Video Security\nIn our on demand webinar\, Delia Midamba\, Head of Physical Security at Cloudflare\, demonstrates how she scaled safety and operations across 10 global offices and 3\,600 employees with a 3-person team. \nWith Verkada’s integrated security system\, Midamba was able to: \n\nReduce time spent on investigations with features such as motion grids\, person detection\, detailed reporting\, and audit logs\nStreamline credential management by utilizing Okta integrations and mobile access control\nImprove overall building security with advanced analytics\, door-based motion alerts\, and tailgate detection\n\nvideo security\, security cameras\, cloud security\, cloud cameras\, video security systems
URL:https://disrv.com/event/how-cloudflare-scaled-global-security-operations-by-integrating-access-control-video-security/2028-07-27/
LOCATION:Online Webinar
CATEGORIES:Verkada,Webinar
ATTACH;FMTTYPE=image/png:https://disrv.com/wp-content/uploads/2020/03/verkada-hybrid-cloud-video-security@2x.png
END:VEVENT
BEGIN:VEVENT
DTSTART;TZID=America/New_York:20280728T130000
DTEND;TZID=America/New_York:20280728T140000
DTSTAMP:20260422T185038
CREATED:20230804T201816Z
LAST-MODIFIED:20230804T201816Z
UID:10001322-1848402000-1848405600@disrv.com
SUMMARY:Introduction to Alarms and 24/7 Professional Monitoring
DESCRIPTION:Introduction to Alarms and 24/7 Professional Monitoring\nIn this webinar\, we will demonstrate how Verkada Alarms can keep your people and assets safe while providing you with peace of mind using 24/7 professional monitoring. \nAlongside a suite of intrusion detection devices\, the Alarms product leverages analytics and events delivered by your existing Verkada security cameras\, door-based access control\, and environmental sensors to help easily identify\, assess and respond to events in real-time. \nvideo security\, security cameras\, cloud security\, cloud cameras\, video security systems
URL:https://disrv.com/event/introduction-to-alarms-and-24-7-professional-monitoring/2028-07-28/
LOCATION:Online Webinar
CATEGORIES:Verkada,Webinar
ATTACH;FMTTYPE=image/png:https://disrv.com/wp-content/uploads/2020/03/verkada-hybrid-cloud-video-security@2x.png
END:VEVENT
BEGIN:VEVENT
DTSTART;TZID=America/New_York:20280803T130000
DTEND;TZID=America/New_York:20280803T140000
DTSTAMP:20260422T185038
CREATED:20230804T201628Z
LAST-MODIFIED:20230804T201628Z
UID:10000801-1848920400-1848924000@disrv.com
SUMMARY:How Cloudflare Scaled Global Security Operations by Integrating Access Control & Video Security
DESCRIPTION:How Cloudflare Scaled Global Security Operations by Integrating Access Control & Video Security\nIn our on demand webinar\, Delia Midamba\, Head of Physical Security at Cloudflare\, demonstrates how she scaled safety and operations across 10 global offices and 3\,600 employees with a 3-person team. \nWith Verkada’s integrated security system\, Midamba was able to: \n\nReduce time spent on investigations with features such as motion grids\, person detection\, detailed reporting\, and audit logs\nStreamline credential management by utilizing Okta integrations and mobile access control\nImprove overall building security with advanced analytics\, door-based motion alerts\, and tailgate detection\n\nvideo security\, security cameras\, cloud security\, cloud cameras\, video security systems
URL:https://disrv.com/event/how-cloudflare-scaled-global-security-operations-by-integrating-access-control-video-security/2028-08-03/
LOCATION:Online Webinar
CATEGORIES:Verkada,Webinar
ATTACH;FMTTYPE=image/png:https://disrv.com/wp-content/uploads/2020/03/verkada-hybrid-cloud-video-security@2x.png
END:VEVENT
BEGIN:VEVENT
DTSTART;TZID=America/New_York:20280804T130000
DTEND;TZID=America/New_York:20280804T140000
DTSTAMP:20260422T185038
CREATED:20230804T201816Z
LAST-MODIFIED:20230804T201816Z
UID:10001323-1849006800-1849010400@disrv.com
SUMMARY:Introduction to Alarms and 24/7 Professional Monitoring
DESCRIPTION:Introduction to Alarms and 24/7 Professional Monitoring\nIn this webinar\, we will demonstrate how Verkada Alarms can keep your people and assets safe while providing you with peace of mind using 24/7 professional monitoring. \nAlongside a suite of intrusion detection devices\, the Alarms product leverages analytics and events delivered by your existing Verkada security cameras\, door-based access control\, and environmental sensors to help easily identify\, assess and respond to events in real-time. \nvideo security\, security cameras\, cloud security\, cloud cameras\, video security systems
URL:https://disrv.com/event/introduction-to-alarms-and-24-7-professional-monitoring/2028-08-04/
LOCATION:Online Webinar
CATEGORIES:Verkada,Webinar
ATTACH;FMTTYPE=image/png:https://disrv.com/wp-content/uploads/2020/03/verkada-hybrid-cloud-video-security@2x.png
END:VEVENT
END:VCALENDAR